BEGIN:VCALENDAR
VERSION:2.0
PRODID:-//Play For MKJ - ECPv6.15.20//NONSGML v1.0//EN
CALSCALE:GREGORIAN
METHOD:PUBLISH
X-WR-CALNAME:Play For MKJ
X-ORIGINAL-URL:https://playformkj.com
X-WR-CALDESC:Events for Play For MKJ
REFRESH-INTERVAL;VALUE=DURATION:PT1H
X-Robots-Tag:noindex
X-PUBLISHED-TTL:PT1H
BEGIN:VTIMEZONE
TZID:UTC
BEGIN:STANDARD
TZOFFSETFROM:+0000
TZOFFSETTO:+0000
TZNAME:UTC
DTSTART:20230101T000000
END:STANDARD
END:VTIMEZONE
BEGIN:VEVENT
DTSTART;TZID=UTC:20241129T193000
DTEND;TZID=UTC:20241215T203000
DTSTAMP:20260422T230705
CREATED:20241203T162511Z
LAST-MODIFIED:20241203T214112Z
UID:478-1732908600-1734294600@playformkj.com
SUMMARY:Online Auction
DESCRIPTION:« All Events\n 				\n				\n				\n				\n					\n	Online Auction				\n				\n				\n				\n					\n		\n			November 29\n\n	\n\n	 @ \n\n\n7:30 pm\n\n	\n\n		\n	\n	 - \n\n	December 15\n\n	\n\n	 @ \n\n\n8:30 pm\n\n\n\n	\n				\n				\n				\n				\n									We are excited to announce our first online auction! Bid now on a once in a lifetime Duke Experience\, a basketball signed by the 2024 Champion Boston Celtics team\, “Zero Days Off” sneakers signed by Tatum and a ball and photo signed by the one and only Luigi “Geno” Auriemma! Just in time for the holidays\, you don’t want to miss these auction items! 								\n				\n				\n				\n					\n	\n		\n\n	\n	Add to calendar	\n		\n	\n\n		\n			\n									\n	Google Calendar\n\n									\n	iCalendar\n\n									\n	Outlook 365\n\n									\n	Outlook Live\n\n							\n		\n\n		\n	\n\n				\n				\n				\n				\n					\n	\n	Website:	\n	https://www.32auctions.com/playformkj?r=1&t=all
URL:https://playformkj.com/event/https-www-32auctions-com-playformkjr1tall/
ATTACH;FMTTYPE=image/png:https://playformkj.com/wp-content/uploads/2024/12/image0.png
END:VEVENT
END:VCALENDAR